BEGIN:VCALENDAR
VERSION:2.0
PRODID:-//Irish Orchid Society - ECPv6.15.17.1//NONSGML v1.0//EN
CALSCALE:GREGORIAN
METHOD:PUBLISH
X-WR-CALNAME:Irish Orchid Society
X-ORIGINAL-URL:https://www.irishorchidsociety.org
X-WR-CALDESC:Events for Irish Orchid Society
REFRESH-INTERVAL;VALUE=DURATION:PT1H
X-Robots-Tag:noindex
X-PUBLISHED-TTL:PT1H
BEGIN:VTIMEZONE
TZID:Europe/Dublin
BEGIN:DAYLIGHT
TZOFFSETFROM:+0000
TZOFFSETTO:+0100
TZNAME:IST
DTSTART:20230326T010000
END:DAYLIGHT
BEGIN:STANDARD
TZOFFSETFROM:+0100
TZOFFSETTO:+0000
TZNAME:GMT
DTSTART:20231029T010000
END:STANDARD
BEGIN:DAYLIGHT
TZOFFSETFROM:+0000
TZOFFSETTO:+0100
TZNAME:IST
DTSTART:20240331T010000
END:DAYLIGHT
BEGIN:STANDARD
TZOFFSETFROM:+0100
TZOFFSETTO:+0000
TZNAME:GMT
DTSTART:20241027T010000
END:STANDARD
BEGIN:DAYLIGHT
TZOFFSETFROM:+0000
TZOFFSETTO:+0100
TZNAME:IST
DTSTART:20250330T010000
END:DAYLIGHT
BEGIN:STANDARD
TZOFFSETFROM:+0100
TZOFFSETTO:+0000
TZNAME:GMT
DTSTART:20251026T010000
END:STANDARD
END:VTIMEZONE
BEGIN:VEVENT
DTSTART;VALUE=DATE:20240614
DTEND;VALUE=DATE:20240617
DTSTAMP:20260420T121520
CREATED:20230730T095808Z
LAST-MODIFIED:20230730T100056Z
UID:10000007-1718323200-1718582399@www.irishorchidsociety.org
SUMMARY:The International Orchid Show Malvern
DESCRIPTION:The premier orchid show in The UK...\n..takes place every year at The Three Counties Showground\, Malvern as part of the Three Counties Show. Over 30 exhibitors and societies will have displays at the show. \n 
URL:https://www.irishorchidsociety.org/ios-event/the-international-orchid-show-malvern/
LOCATION:The Three Counties Showground\, Malvern\, WR13 6NW\, United Kingdom
CATEGORIES:Horticultural Shows
ATTACH;FMTTYPE=image/webp:https://www.irishorchidsociety.org/wp-content/uploads/2023/07/Malvern-orchid-show.webp
ORGANIZER;CN="The Orchid Society of Great Britain":MAILTO:secretary@osgb.org.uk
END:VEVENT
END:VCALENDAR