BEGIN:VCALENDAR
VERSION:2.0
PRODID:-//Irish Orchid Society - ECPv6.15.17.1//NONSGML v1.0//EN
CALSCALE:GREGORIAN
METHOD:PUBLISH
X-ORIGINAL-URL:https://www.irishorchidsociety.org
X-WR-CALDESC:Events for Irish Orchid Society
REFRESH-INTERVAL;VALUE=DURATION:PT1H
X-Robots-Tag:noindex
X-PUBLISHED-TTL:PT1H
BEGIN:VTIMEZONE
TZID:Europe/Dublin
BEGIN:DAYLIGHT
TZOFFSETFROM:+0000
TZOFFSETTO:+0100
TZNAME:IST
DTSTART:20230326T010000
END:DAYLIGHT
BEGIN:STANDARD
TZOFFSETFROM:+0100
TZOFFSETTO:+0000
TZNAME:GMT
DTSTART:20231029T010000
END:STANDARD
BEGIN:DAYLIGHT
TZOFFSETFROM:+0000
TZOFFSETTO:+0100
TZNAME:IST
DTSTART:20240331T010000
END:DAYLIGHT
BEGIN:STANDARD
TZOFFSETFROM:+0100
TZOFFSETTO:+0000
TZNAME:GMT
DTSTART:20241027T010000
END:STANDARD
BEGIN:DAYLIGHT
TZOFFSETFROM:+0000
TZOFFSETTO:+0100
TZNAME:IST
DTSTART:20250330T010000
END:DAYLIGHT
BEGIN:STANDARD
TZOFFSETFROM:+0100
TZOFFSETTO:+0000
TZNAME:GMT
DTSTART:20251026T010000
END:STANDARD
END:VTIMEZONE
BEGIN:VEVENT
DTSTART;TZID=Europe/Dublin:20240708T190000
DTEND;TZID=Europe/Dublin:20240708T210000
DTSTAMP:20260420T134103
CREATED:20240613T111651Z
LAST-MODIFIED:20240708T104745Z
UID:10000037-1720465200-1720472400@www.irishorchidsociety.org
SUMMARY:AGM 2024
DESCRIPTION:The Annual General Meeting of the Irish Orchid Society will take place on Monday 8th July at 7pm in the lecture theatre at the National Botanic Gardens. \nMembership renewals can be made on the night and we would be delighted to welcome new members. \n 
URL:https://www.irishorchidsociety.org/ios-event/agm-2024/
LOCATION:National Botanic Gardens\, National Botanic Gardens\, Dublin\, Co. Dublin\, D09 VY63\, Ireland
CATEGORIES:IOS Meetings
ATTACH;FMTTYPE=image/png:https://www.irishorchidsociety.org/wp-content/uploads/2024/03/IOS-Logo-new.png
GEO:53.3725493;-6.271907
X-APPLE-STRUCTURED-LOCATION;VALUE=URI;X-ADDRESS=National Botanic Gardens National Botanic Gardens Dublin Co. Dublin D09 VY63 Ireland;X-APPLE-RADIUS=500;X-TITLE=National Botanic Gardens:geo:-6.271907,53.3725493
END:VEVENT
END:VCALENDAR