BEGIN:VCALENDAR
VERSION:2.0
PRODID:-//Irish Orchid Society - ECPv6.15.17.1//NONSGML v1.0//EN
CALSCALE:GREGORIAN
METHOD:PUBLISH
X-ORIGINAL-URL:https://www.irishorchidsociety.org
X-WR-CALDESC:Events for Irish Orchid Society
REFRESH-INTERVAL;VALUE=DURATION:PT1H
X-Robots-Tag:noindex
X-PUBLISHED-TTL:PT1H
BEGIN:VTIMEZONE
TZID:Europe/Dublin
BEGIN:DAYLIGHT
TZOFFSETFROM:+0000
TZOFFSETTO:+0100
TZNAME:IST
DTSTART:20230326T010000
END:DAYLIGHT
BEGIN:STANDARD
TZOFFSETFROM:+0100
TZOFFSETTO:+0000
TZNAME:GMT
DTSTART:20231029T010000
END:STANDARD
BEGIN:DAYLIGHT
TZOFFSETFROM:+0000
TZOFFSETTO:+0100
TZNAME:IST
DTSTART:20240331T010000
END:DAYLIGHT
BEGIN:STANDARD
TZOFFSETFROM:+0100
TZOFFSETTO:+0000
TZNAME:GMT
DTSTART:20241027T010000
END:STANDARD
BEGIN:DAYLIGHT
TZOFFSETFROM:+0000
TZOFFSETTO:+0100
TZNAME:IST
DTSTART:20250330T010000
END:DAYLIGHT
BEGIN:STANDARD
TZOFFSETFROM:+0100
TZOFFSETTO:+0000
TZNAME:GMT
DTSTART:20251026T010000
END:STANDARD
END:VTIMEZONE
BEGIN:VEVENT
DTSTART;TZID=Europe/Dublin:20241104T190000
DTEND;TZID=Europe/Dublin:20241104T210000
DTSTAMP:20260420T202216
CREATED:20240712T173412Z
LAST-MODIFIED:20241102T140559Z
UID:10000043-1730746800-1730754000@www.irishorchidsociety.org
SUMMARY:November 2024 IOS Meeting - Talk by Dr Helen Millner on the genus Restrepia
DESCRIPTION:November IOS Meeting\nTalk on the genus Restrepia by Dr Helen Millner\, President of the Orchid Society of Great Britain.\nDr Helen Millner\nDr Helen Millner has been growing orchids for over thirty years  and has been a member of the OSGB for about seventeen years. She has put on numerous orchid displays at all types of shows and all over The UK\, including Chelsea\, Chatsworth\, the London Orchid Show and in addition in Germany and South Africa. \nAfter retiring\, she returned to University to undertake orchid research - in particular Restrepia pollination biology for which she was awarded a doctorate. She specialises in Pleurothallids which are her main love\, in particular\, the mystery of the minute and microscopic side of orchids and how they help to reveal the fascinating facts of orchid biology. \nThis event will be available to view online through the Google Meet link that will appear on this page 15 minutes before the start of the event. Dr Millner will be talking to us from the UK via Google Meet. \nWe will have an in-person raffle on the evening for some lovely prizes including some books. Raffle Tickets are €5 each. \nPlease bring cash for the raffle. \n 
URL:https://www.irishorchidsociety.org/ios-event/november-2024-ios-meeting/
LOCATION:National Botanic Gardens\, National Botanic Gardens\, Dublin\, Co. Dublin\, D09 VY63\, Ireland
CATEGORIES:IOS Meetings
ATTACH;FMTTYPE=image/jpeg:https://www.irishorchidsociety.org/wp-content/uploads/2024/10/Irish-orchid-Society-NBG-22.jpg
ORGANIZER;CN="Irish Orchid Society":MAILTO:info@irishorchidsociety.org
GEO:53.3725493;-6.271907
X-APPLE-STRUCTURED-LOCATION;VALUE=URI;X-ADDRESS=National Botanic Gardens National Botanic Gardens Dublin Co. Dublin D09 VY63 Ireland;X-APPLE-RADIUS=500;X-TITLE=National Botanic Gardens:geo:-6.271907,53.3725493
END:VEVENT
END:VCALENDAR