BEGIN:VCALENDAR
VERSION:2.0
PRODID:-//Irish Orchid Society - ECPv6.15.17.1//NONSGML v1.0//EN
CALSCALE:GREGORIAN
METHOD:PUBLISH
X-WR-CALNAME:Irish Orchid Society
X-ORIGINAL-URL:https://www.irishorchidsociety.org
X-WR-CALDESC:Events for Irish Orchid Society
REFRESH-INTERVAL;VALUE=DURATION:PT1H
X-Robots-Tag:noindex
X-PUBLISHED-TTL:PT1H
BEGIN:VTIMEZONE
TZID:Europe/Dublin
BEGIN:DAYLIGHT
TZOFFSETFROM:+0000
TZOFFSETTO:+0100
TZNAME:IST
DTSTART:20240331T010000
END:DAYLIGHT
BEGIN:STANDARD
TZOFFSETFROM:+0100
TZOFFSETTO:+0000
TZNAME:GMT
DTSTART:20241027T010000
END:STANDARD
BEGIN:DAYLIGHT
TZOFFSETFROM:+0000
TZOFFSETTO:+0100
TZNAME:IST
DTSTART:20250330T010000
END:DAYLIGHT
BEGIN:STANDARD
TZOFFSETFROM:+0100
TZOFFSETTO:+0000
TZNAME:GMT
DTSTART:20251026T010000
END:STANDARD
BEGIN:DAYLIGHT
TZOFFSETFROM:+0000
TZOFFSETTO:+0100
TZNAME:IST
DTSTART:20260329T010000
END:DAYLIGHT
BEGIN:STANDARD
TZOFFSETFROM:+0100
TZOFFSETTO:+0000
TZNAME:GMT
DTSTART:20261025T010000
END:STANDARD
END:VTIMEZONE
BEGIN:VEVENT
DTSTART;TZID=Europe/Dublin:20250609T190000
DTEND;TZID=Europe/Dublin:20250609T210000
DTSTAMP:20260421T061632
CREATED:20250218T164811Z
LAST-MODIFIED:20250608T134226Z
UID:10000057-1749495600-1749502800@www.irishorchidsociety.org
SUMMARY:IOS Annual General Meeting
DESCRIPTION:The 2025 Annual General Meeting of the Irish Orchid Society\nThe AGM will be held in the Visitor Centre Auditorium at The National Botanic Gardens from 7pm on Monday 9th June. We will also have a table show and raffle. Let us know if you are coming or wish to submit an apology for not attending by submitting an RSVP below\, click here \n  \nAGM:\nAgenda: \n\nApologies\nMinutes of the 2024 AGM\nChairperson’s Address\nTreasurer’s Report\nAOB\n\nIf you cannot attend\, please send your apologies to chair@irishorchidsociety.org \n  \nTable Show:\nIf you have an orchid in-flower to enter into the table show please bring it along \nOR \nSubmit it to the Virtual WhatsApp Table Show Group (link here) \nThe rules for the WhatsApp group are as follows: Three images of the plant: front\, side and looking down from the top including a written/typed card with the full name of the Orchid\, the date and age of the plant and the name of the person submitting the plant for judging. \n  \nRaffle\nWe have a selection of orchids from the ones left over from the display at Bloom to offer in a raffle on the night including a couple of Vanda. Tickets are €5 each\, three tickets for €10 and five tickets for €15. we can accept payment by card or cash on the night OR you can also purchase tickets online below: \n\n\n\nAdd to your Calendar or RSVP below
URL:https://www.irishorchidsociety.org/ios-event/ios-annual-general-meeting/
LOCATION:The Auditorium @ The National Botanic Gardens Visitor Centre\, National Botanic Gardens\, Dublin\, Dublin\, D09 VY63\, Ireland
CATEGORIES:IOS Meetings
ATTACH;FMTTYPE=image/jpeg:https://www.irishorchidsociety.org/wp-content/uploads/2025/01/IMG_6213.jpg
ORGANIZER;CN="Irish Orchid Society":MAILTO:info@irishorchidsociety.org
GEO:53.3725493;-6.271907
X-APPLE-STRUCTURED-LOCATION;VALUE=URI;X-ADDRESS=The Auditorium @ The National Botanic Gardens Visitor Centre National Botanic Gardens Dublin Dublin D09 VY63 Ireland;X-APPLE-RADIUS=500;X-TITLE=National Botanic Gardens:geo:-6.271907,53.3725493
END:VEVENT
END:VCALENDAR