BEGIN:VCALENDAR
VERSION:2.0
PRODID:-//Irish Orchid Society - ECPv6.15.17.1//NONSGML v1.0//EN
CALSCALE:GREGORIAN
METHOD:PUBLISH
X-ORIGINAL-URL:https://www.irishorchidsociety.org
X-WR-CALDESC:Events for Irish Orchid Society
REFRESH-INTERVAL;VALUE=DURATION:PT1H
X-Robots-Tag:noindex
X-PUBLISHED-TTL:PT1H
BEGIN:VTIMEZONE
TZID:Europe/Dublin
BEGIN:DAYLIGHT
TZOFFSETFROM:+0000
TZOFFSETTO:+0100
TZNAME:IST
DTSTART:20240331T010000
END:DAYLIGHT
BEGIN:STANDARD
TZOFFSETFROM:+0100
TZOFFSETTO:+0000
TZNAME:GMT
DTSTART:20241027T010000
END:STANDARD
BEGIN:DAYLIGHT
TZOFFSETFROM:+0000
TZOFFSETTO:+0100
TZNAME:IST
DTSTART:20250330T010000
END:DAYLIGHT
BEGIN:STANDARD
TZOFFSETFROM:+0100
TZOFFSETTO:+0000
TZNAME:GMT
DTSTART:20251026T010000
END:STANDARD
BEGIN:DAYLIGHT
TZOFFSETFROM:+0000
TZOFFSETTO:+0100
TZNAME:IST
DTSTART:20260329T010000
END:DAYLIGHT
BEGIN:STANDARD
TZOFFSETFROM:+0100
TZOFFSETTO:+0000
TZNAME:GMT
DTSTART:20261025T010000
END:STANDARD
END:VTIMEZONE
BEGIN:VEVENT
DTSTART;TZID=Europe/Dublin:20250531T090000
DTEND;TZID=Europe/Dublin:20250531T170000
DTSTAMP:20260421T063442
CREATED:20250318T130821Z
LAST-MODIFIED:20250516T153922Z
UID:10000064-1748682000-1748710800@www.irishorchidsociety.org
SUMMARY:IOS at Bord Bia Bloom 2025
DESCRIPTION:  \nThe Irish Orchid Society will be at Bloom for the first time.\nWe will have lots of information on orchids and their culture in the home. A beautiful display of orchids. David Morse\, the Chair of the Society\, will be giving two demonstrations on how to successfully grow orchids in the home. These talks will be in the Botanical Hub which is located next to the Postage Gardens near Entrance One. We will have lots of orchids for sale to raise funds for the society. \n \n  \n  \nIf you are a member\, please log in to see more information on this page. \n 
URL:https://www.irishorchidsociety.org/ios-event/ios-at-bord-bia-bloom-2025/2025-05-31/
LOCATION:Bord Bia Bloom\, PHOENIX PARK\, DUBLIN 8\, D08 X6X3\, Ireland
CATEGORIES:Horticultural Shows,IOS Events,Orchid Shows
ATTACH;FMTTYPE=image/png:https://www.irishorchidsociety.org/wp-content/uploads/2025/03/Bloom-2025-logo.png
ORGANIZER;CN="Irish Orchid Society":MAILTO:info@irishorchidsociety.org
GEO:53.36576;-6.3305835
X-APPLE-STRUCTURED-LOCATION;VALUE=URI;X-ADDRESS=Bord Bia Bloom PHOENIX PARK DUBLIN 8 D08 X6X3 Ireland;X-APPLE-RADIUS=500;X-TITLE=PHOENIX PARK:geo:-6.3305835,53.36576
END:VEVENT
END:VCALENDAR