BEGIN:VCALENDAR
VERSION:2.0
PRODID:-//Irish Orchid Society - ECPv6.15.17.1//NONSGML v1.0//EN
CALSCALE:GREGORIAN
METHOD:PUBLISH
X-WR-CALNAME:Irish Orchid Society
X-ORIGINAL-URL:https://www.irishorchidsociety.org
X-WR-CALDESC:Events for Irish Orchid Society
REFRESH-INTERVAL;VALUE=DURATION:PT1H
X-Robots-Tag:noindex
X-PUBLISHED-TTL:PT1H
BEGIN:VTIMEZONE
TZID:Europe/Dublin
BEGIN:DAYLIGHT
TZOFFSETFROM:+0000
TZOFFSETTO:+0100
TZNAME:IST
DTSTART:20240331T010000
END:DAYLIGHT
BEGIN:STANDARD
TZOFFSETFROM:+0100
TZOFFSETTO:+0000
TZNAME:GMT
DTSTART:20241027T010000
END:STANDARD
BEGIN:DAYLIGHT
TZOFFSETFROM:+0000
TZOFFSETTO:+0100
TZNAME:IST
DTSTART:20250330T010000
END:DAYLIGHT
BEGIN:STANDARD
TZOFFSETFROM:+0100
TZOFFSETTO:+0000
TZNAME:GMT
DTSTART:20251026T010000
END:STANDARD
BEGIN:DAYLIGHT
TZOFFSETFROM:+0000
TZOFFSETTO:+0100
TZNAME:IST
DTSTART:20260329T010000
END:DAYLIGHT
BEGIN:STANDARD
TZOFFSETFROM:+0100
TZOFFSETTO:+0000
TZNAME:GMT
DTSTART:20261025T010000
END:STANDARD
END:VTIMEZONE
BEGIN:VEVENT
DTSTART;TZID=Europe/Dublin:20250407T190000
DTEND;TZID=Europe/Dublin:20250407T210000
DTSTAMP:20260421T050108
CREATED:20250218T164034Z
LAST-MODIFIED:20250327T152744Z
UID:10000055-1744052400-1744059600@www.irishorchidsociety.org
SUMMARY:IOS Members' Night - April 2025 - Talk by Mark Turner from Elite Orchids
DESCRIPTION:April's members' night will take place on Monday 7th April at 7pm in the Auditorium of the National Botanic Gardens.\nEvening Talk\nMark Turner from Elite Orchids will be giving a talk on the successful transporting orchids in flower for shows. \nPostponed Vote on the changes to the constitution\nWe will also have a vote on the changes to the constitution if a quorum is present. Please RSVP to let us know if you are joining in-person. \nShow Table\nThe Show Table is back\, so if you have an orchid in flower bring it along to be judged\, or add an image(s) with a card displaying the date\, name and age of the orchid to the virtual show table on the WhatsApp Group (click here). \nThe top prize is a copy of Saving Orchids the new book by Philip Seaton and Lawrence W. Zettler telling the inspiring stories of people around the world working in orchid conservation. \nOnline and In-person Raffle\nWe will also have a raffle on the night for some orchids\, we have a couple of cymbidiums as prizes and a cattleya. There is also an online raffle for the following orchids which you can join below. \nRhyncattleanthe “Sunnyside Up” \nPaphiopedilum gratrixianum \nVanda “Paki” \n			\n				\n\n	\n	\n			\n\n\n	\n		IOS Raffle Ticket€5.00 – €15.00Price range: €5.00 through €15.00 \n\n\n	\n			This product is currently out of stock and unavailable. \n	\n	\n\n\n\n	\n	\n		SKU: N/A\n\n	\n	Category: Raffle\n	\n	\n\n	\n\n	\n	\n		\n							\n					\n						Additional information					\n				\n					\n					\n				\n	Additional information\n\n\n			\n			Raffle Ticket\n			1 Ticket €5\, 3 Tickets €10\, 5 Tickets €15 \n\n		\n	\n			\n		\n			\n\n\n\n			\n			\n  \n  \n 
URL:https://www.irishorchidsociety.org/ios-event/ios-april-25-meeting/
LOCATION:The Auditorium @ The National Botanic Gardens Visitor Centre\, National Botanic Gardens\, Dublin\, Dublin\, D09 VY63\, Ireland
CATEGORIES:IOS Meetings
ATTACH;FMTTYPE=image/jpeg:https://www.irishorchidsociety.org/wp-content/uploads/2025/02/IMG_5677.jpeg
ORGANIZER;CN="Irish Orchid Society":MAILTO:info@irishorchidsociety.org
GEO:53.3725493;-6.271907
X-APPLE-STRUCTURED-LOCATION;VALUE=URI;X-ADDRESS=The Auditorium @ The National Botanic Gardens Visitor Centre National Botanic Gardens Dublin Dublin D09 VY63 Ireland;X-APPLE-RADIUS=500;X-TITLE=National Botanic Gardens:geo:-6.271907,53.3725493
END:VEVENT
END:VCALENDAR