BEGIN:VCALENDAR
VERSION:2.0
PRODID:-//Irish Orchid Society - ECPv6.15.17.1//NONSGML v1.0//EN
CALSCALE:GREGORIAN
METHOD:PUBLISH
X-WR-CALNAME:Irish Orchid Society
X-ORIGINAL-URL:https://www.irishorchidsociety.org
X-WR-CALDESC:Events for Irish Orchid Society
REFRESH-INTERVAL;VALUE=DURATION:PT1H
X-Robots-Tag:noindex
X-PUBLISHED-TTL:PT1H
BEGIN:VTIMEZONE
TZID:Europe/Dublin
BEGIN:DAYLIGHT
TZOFFSETFROM:+0000
TZOFFSETTO:+0100
TZNAME:IST
DTSTART:20240331T010000
END:DAYLIGHT
BEGIN:STANDARD
TZOFFSETFROM:+0100
TZOFFSETTO:+0000
TZNAME:GMT
DTSTART:20241027T010000
END:STANDARD
BEGIN:DAYLIGHT
TZOFFSETFROM:+0000
TZOFFSETTO:+0100
TZNAME:IST
DTSTART:20250330T010000
END:DAYLIGHT
BEGIN:STANDARD
TZOFFSETFROM:+0100
TZOFFSETTO:+0000
TZNAME:GMT
DTSTART:20251026T010000
END:STANDARD
BEGIN:DAYLIGHT
TZOFFSETFROM:+0000
TZOFFSETTO:+0100
TZNAME:IST
DTSTART:20260329T010000
END:DAYLIGHT
BEGIN:STANDARD
TZOFFSETFROM:+0100
TZOFFSETTO:+0000
TZNAME:GMT
DTSTART:20261025T010000
END:STANDARD
END:VTIMEZONE
BEGIN:VEVENT
DTSTART;TZID=Europe/Dublin:20250301T120000
DTEND;TZID=Europe/Dublin:20250302T163000
DTSTAMP:20260423T033749
CREATED:20250130T100325Z
LAST-MODIFIED:20250218T144707Z
UID:10000048-1740830400-1740933000@www.irishorchidsociety.org
SUMMARY:IOS Spring Orchid Show and Exhibition
DESCRIPTION:Open to the public. A weekend of Orchid wonderment with demonstrations\, talks\, art and exhibitions as well as displays of orchids in flower. \n12 pm to 4pm on Saturday 1st March \n10:30pm to 3:30pm on Sunday 2nd March \n\nOrchid Table Show\nGrand Raffle\nDisplay of flowering orchids\nDisplay of botanical art from the NBG Library Archive\nArt Exhibition featuring Irish botanical artists including Susan Sex and Deborah Lambkin.\n\n  \nTalks and Workshops\n\n	\n		\n\n			\n			\n\n			\n			\n				\n			\n			\n	\n		\n		\n		\n		\n	\n\n\n	Notice\n							\n					There are no upcoming events.				\n					\n	\n\n					\n	\n\n\n\n  \n  \nEnquiries please contact  chair@irishorchidsociety.org
URL:https://www.irishorchidsociety.org/ios-event/ios-spring-orchid-show-and-exhibition/
LOCATION:National Botanic Gardens\, National Botanic Gardens\, Dublin\, Co. Dublin\, D09 VY63\, Ireland
CATEGORIES:IOS Events,Orchid Shows
ATTACH;FMTTYPE=image/jpeg:https://www.irishorchidsociety.org/wp-content/uploads/2023/07/display-at-wisley-rhs-orchid-show.jpg
ORGANIZER;CN="Irish Orchid Society":MAILTO:info@irishorchidsociety.org
GEO:53.3725493;-6.271907
X-APPLE-STRUCTURED-LOCATION;VALUE=URI;X-ADDRESS=National Botanic Gardens National Botanic Gardens Dublin Co. Dublin D09 VY63 Ireland;X-APPLE-RADIUS=500;X-TITLE=National Botanic Gardens:geo:-6.271907,53.3725493
END:VEVENT
END:VCALENDAR