BEGIN:VCALENDAR
VERSION:2.0
PRODID:-//Irish Orchid Society - ECPv6.15.17.1//NONSGML v1.0//EN
CALSCALE:GREGORIAN
METHOD:PUBLISH
X-ORIGINAL-URL:https://www.irishorchidsociety.org
X-WR-CALDESC:Events for Irish Orchid Society
REFRESH-INTERVAL;VALUE=DURATION:PT1H
X-Robots-Tag:noindex
X-PUBLISHED-TTL:PT1H
BEGIN:VTIMEZONE
TZID:Europe/Dublin
BEGIN:DAYLIGHT
TZOFFSETFROM:+0000
TZOFFSETTO:+0100
TZNAME:IST
DTSTART:20230326T010000
END:DAYLIGHT
BEGIN:STANDARD
TZOFFSETFROM:+0100
TZOFFSETTO:+0000
TZNAME:GMT
DTSTART:20231029T010000
END:STANDARD
BEGIN:DAYLIGHT
TZOFFSETFROM:+0000
TZOFFSETTO:+0100
TZNAME:IST
DTSTART:20240331T010000
END:DAYLIGHT
BEGIN:STANDARD
TZOFFSETFROM:+0100
TZOFFSETTO:+0000
TZNAME:GMT
DTSTART:20241027T010000
END:STANDARD
BEGIN:DAYLIGHT
TZOFFSETFROM:+0000
TZOFFSETTO:+0100
TZNAME:IST
DTSTART:20250330T010000
END:DAYLIGHT
BEGIN:STANDARD
TZOFFSETFROM:+0100
TZOFFSETTO:+0000
TZNAME:GMT
DTSTART:20251026T010000
END:STANDARD
END:VTIMEZONE
BEGIN:VEVENT
DTSTART;TZID=Europe/Dublin:20241007T190000
DTEND;TZID=Europe/Dublin:20241007T210000
DTSTAMP:20260420T171429
CREATED:20240712T173245Z
LAST-MODIFIED:20241007T082651Z
UID:10000042-1728327600-1728334800@www.irishorchidsociety.org
SUMMARY:October 2024 IOS Meeting - talk on Peruvian Orchids with Challen Willemsen
DESCRIPTION:IOS October Meeting at The National Botanic Gardens\nChallen Willemsen\, Guatemalan Ecologist and Member of the IUCN SSC Orchid Specialist Group\nThis October we welcome back Challen Willemsen who will be presenting directly from Guatemala a talk about his trip up into the Peruvian mountains. \nIn November of 2023 Challen attended the 7th SCIENTIFIC CONFERENCE ON ANDEAN ORCHIDS at the University of San Antonio Abad in Cusco Peru. Cusco lies in the south east of Peru and was the ancient capital of the Inca Empire. Situated near to the Sacred Valley of the Andes it is often the place to set off on a trip to Machu Picchu.\nAfter the conference this is exactly what Challen did; visited Machu Picchu and went even higher up into the Andes to find orchids of all kinds in the high Andes. \nHe'll be relating his trip to us and as usual have a plethora of wonderful images of all his finds and places he visited in the cloud forests of Peru. This will be a fantastic night and there will be a Q&A session at the end of the night.\nThe presentation will be available on the night virtually and you can watch it on this page below 9links and watch button appear 15 minutes before the . If you want the link for the event\, RSVP below and the link will be emailed to you. \nIn-Person Raffle\nIf you want a chance to increase your collection for only €5\, on the evening we will also have our usual in person orchid raffle with tickets at €5 each. Please bring along some cash and purchase your raffle tickets at the door on your way in. \nOrchid Show\nFinally\, after the success of our first orchid show in September We'll also have some special prizes for the best show orchids brought in on the night\, so if you have any special orchids in flower\, do bring them along early for judging. The lecture theatre will be open from 6:30pm for people bringing show orchids.
URL:https://www.irishorchidsociety.org/ios-event/october-ios-meeting/
LOCATION:National Botanic Gardens\, National Botanic Gardens\, Dublin\, Co. Dublin\, D09 VY63\, Ireland
CATEGORIES:IOS Meetings
ATTACH;FMTTYPE=image/jpeg:https://www.irishorchidsociety.org/wp-content/uploads/2023/10/Challen-3.jpg
ORGANIZER;CN="Irish Orchid Society":MAILTO:info@irishorchidsociety.org
GEO:53.3725493;-6.271907
X-APPLE-STRUCTURED-LOCATION;VALUE=URI;X-ADDRESS=National Botanic Gardens National Botanic Gardens Dublin Co. Dublin D09 VY63 Ireland;X-APPLE-RADIUS=500;X-TITLE=National Botanic Gardens:geo:-6.271907,53.3725493
END:VEVENT
END:VCALENDAR