BEGIN:VCALENDAR
VERSION:2.0
PRODID:-//Irish Orchid Society - ECPv6.15.17.1//NONSGML v1.0//EN
CALSCALE:GREGORIAN
METHOD:PUBLISH
X-ORIGINAL-URL:https://www.irishorchidsociety.org
X-WR-CALDESC:Events for Irish Orchid Society
REFRESH-INTERVAL;VALUE=DURATION:PT1H
X-Robots-Tag:noindex
X-PUBLISHED-TTL:PT1H
BEGIN:VTIMEZONE
TZID:Europe/Dublin
BEGIN:DAYLIGHT
TZOFFSETFROM:+0000
TZOFFSETTO:+0100
TZNAME:IST
DTSTART:20240331T010000
END:DAYLIGHT
BEGIN:STANDARD
TZOFFSETFROM:+0100
TZOFFSETTO:+0000
TZNAME:GMT
DTSTART:20241027T010000
END:STANDARD
BEGIN:DAYLIGHT
TZOFFSETFROM:+0000
TZOFFSETTO:+0100
TZNAME:IST
DTSTART:20250330T010000
END:DAYLIGHT
BEGIN:STANDARD
TZOFFSETFROM:+0100
TZOFFSETTO:+0000
TZNAME:GMT
DTSTART:20251026T010000
END:STANDARD
BEGIN:DAYLIGHT
TZOFFSETFROM:+0000
TZOFFSETTO:+0100
TZNAME:IST
DTSTART:20260329T010000
END:DAYLIGHT
BEGIN:STANDARD
TZOFFSETFROM:+0100
TZOFFSETTO:+0000
TZNAME:GMT
DTSTART:20261025T010000
END:STANDARD
END:VTIMEZONE
BEGIN:VEVENT
DTSTART;TZID=Europe/Dublin:20251006T190000
DTEND;TZID=Europe/Dublin:20251006T210000
DTSTAMP:20260420T202315
CREATED:20250727T044143Z
LAST-MODIFIED:20250909T215703Z
UID:10000067-1759777200-1759784400@www.irishorchidsociety.org
SUMMARY:IOS Meeting October 2025
DESCRIPTION:Members' Plant Surgery Night\nBring along your orchids\, sick or over grown or just looking for some advice\, pop along and get some expert advice. \nTable Show\nWe will host an in-person and a virtual table show \nIn-person Raffle\nWe will have an in-person raffle on the night with some beautiful orchids to win. \n(The virtual link for the night to watch the meeting online will appear on this page below\, just click the Watch button and it'll open a window for you to join the online event) \n  \n 
URL:https://www.irishorchidsociety.org/ios-event/ios-meeting/
LOCATION:The Auditorium @ The National Botanic Gardens Visitor Centre\, National Botanic Gardens\, Dublin\, Dublin\, D09 VY63\, Ireland
CATEGORIES:IOS Meetings
ATTACH;FMTTYPE=image/jpeg:https://www.irishorchidsociety.org/wp-content/uploads/2024/03/PHOTO-2024-03-12-13-36-13.jpg
ORGANIZER;CN="Irish Orchid Society":MAILTO:info@irishorchidsociety.org
GEO:53.3725493;-6.271907
X-APPLE-STRUCTURED-LOCATION;VALUE=URI;X-ADDRESS=The Auditorium @ The National Botanic Gardens Visitor Centre National Botanic Gardens Dublin Dublin D09 VY63 Ireland;X-APPLE-RADIUS=500;X-TITLE=National Botanic Gardens:geo:-6.271907,53.3725493
END:VEVENT
END:VCALENDAR