BEGIN:VCALENDAR
VERSION:2.0
PRODID:-//Irish Orchid Society - ECPv6.15.17.1//NONSGML v1.0//EN
CALSCALE:GREGORIAN
METHOD:PUBLISH
X-ORIGINAL-URL:https://www.irishorchidsociety.org
X-WR-CALDESC:Events for Irish Orchid Society
REFRESH-INTERVAL;VALUE=DURATION:PT1H
X-Robots-Tag:noindex
X-PUBLISHED-TTL:PT1H
BEGIN:VTIMEZONE
TZID:Europe/Dublin
BEGIN:DAYLIGHT
TZOFFSETFROM:+0000
TZOFFSETTO:+0100
TZNAME:IST
DTSTART:20250330T010000
END:DAYLIGHT
BEGIN:STANDARD
TZOFFSETFROM:+0100
TZOFFSETTO:+0000
TZNAME:GMT
DTSTART:20251026T010000
END:STANDARD
BEGIN:DAYLIGHT
TZOFFSETFROM:+0000
TZOFFSETTO:+0100
TZNAME:IST
DTSTART:20260329T010000
END:DAYLIGHT
BEGIN:STANDARD
TZOFFSETFROM:+0100
TZOFFSETTO:+0000
TZNAME:GMT
DTSTART:20261025T010000
END:STANDARD
BEGIN:DAYLIGHT
TZOFFSETFROM:+0000
TZOFFSETTO:+0100
TZNAME:IST
DTSTART:20270328T010000
END:DAYLIGHT
BEGIN:STANDARD
TZOFFSETFROM:+0100
TZOFFSETTO:+0000
TZNAME:GMT
DTSTART:20271031T010000
END:STANDARD
END:VTIMEZONE
BEGIN:VEVENT
DTSTART;TZID=Europe/Dublin:20260209T190000
DTEND;TZID=Europe/Dublin:20260209T203000
DTSTAMP:20260420T135903
CREATED:20260208T160830Z
LAST-MODIFIED:20260208T161728Z
UID:10000071-1770663600-1770669000@www.irishorchidsociety.org
SUMMARY:IOS Member's Meeting: February 2026
DESCRIPTION:A virtual/online only meeting this month.\nWe will have a talk about growing orchids in-doors during the winter\, the importance of lighting\, heat and humidity. \nWhat member's have in flower now. \nAny orchid issues \nThe spring show. \n 
URL:https://www.irishorchidsociety.org/ios-event/ios-members-meeting-feb-2026/
LOCATION:https://www.irishorchidsociety.org/ios-event/ios-members-meeting-feb-2026/
CATEGORIES:IOS Meetings
ORGANIZER;CN="David Morse":MAILTO:chair@irishorchidsociety.org
END:VEVENT
END:VCALENDAR